BEGIN:VCALENDAR
VERSION:2.0
PRODID:-//Friends of Acton COA - ECPv6.15.20//NONSGML v1.0//EN
CALSCALE:GREGORIAN
METHOD:PUBLISH
X-WR-CALNAME:Friends of Acton COA
X-ORIGINAL-URL:https://friendsofactoncoa.com
X-WR-CALDESC:Events for Friends of Acton COA
REFRESH-INTERVAL;VALUE=DURATION:PT1H
X-Robots-Tag:noindex
X-PUBLISHED-TTL:PT1H
BEGIN:VTIMEZONE
TZID:America/New_York
BEGIN:DAYLIGHT
TZOFFSETFROM:-0500
TZOFFSETTO:-0400
TZNAME:EDT
DTSTART:20250309T070000
END:DAYLIGHT
BEGIN:STANDARD
TZOFFSETFROM:-0400
TZOFFSETTO:-0500
TZNAME:EST
DTSTART:20251102T060000
END:STANDARD
BEGIN:DAYLIGHT
TZOFFSETFROM:-0500
TZOFFSETTO:-0400
TZNAME:EDT
DTSTART:20260308T070000
END:DAYLIGHT
BEGIN:STANDARD
TZOFFSETFROM:-0400
TZOFFSETTO:-0500
TZNAME:EST
DTSTART:20261101T060000
END:STANDARD
BEGIN:DAYLIGHT
TZOFFSETFROM:-0500
TZOFFSETTO:-0400
TZNAME:EDT
DTSTART:20270314T070000
END:DAYLIGHT
BEGIN:STANDARD
TZOFFSETFROM:-0400
TZOFFSETTO:-0500
TZNAME:EST
DTSTART:20271107T060000
END:STANDARD
END:VTIMEZONE
BEGIN:VEVENT
DTSTART;TZID=America/New_York:20260416T140000
DTEND;TZID=America/New_York:20260416T151500
DTSTAMP:20260420T073723
CREATED:20260331T220532Z
LAST-MODIFIED:20260331T220532Z
UID:10002794-1776348000-1776352500@friendsofactoncoa.com
SUMMARY:Exercising the Brain Workshop with Edward Alessi
DESCRIPTION:This workshop discusses how you can help lessen the decline of cognitive function that accompanies\naging by exercising your brain. Challenging the brain can help delay the onset of dementia. Bring paper\nand pen or your preferred device to take notes. Edward Alessi is a retired geriatric social worker who\ncurrently teaches Sociology at the Middlesex Community College in Bedford. \nOpen to all age 60+/free \nPlease call the Acton Senior Center at 978-929-6652 to register in advance \n*Friends of the Acton Council on Aging provides financial support for this event.
URL:https://friendsofactoncoa.com/event/exercising-the-brain-workshop-with-edward-alessi/
END:VEVENT
END:VCALENDAR